BEGIN:VCALENDAR
VERSION:2.0
PRODID:-//Tukios.com/
BEGIN:VEVENT
UID:27efb3c7-e83d-4d2d-b33a-7e9247f2187a@www.memorialoakschapel.com
DTSTAMP:20260422T224423Z
DTSTART:20260519T153000Z
DTEND:20260519T163000Z
SUMMARY:Memorial Service
DESCRIPTION:
URL:https://www.memorialoakschapel.com/obituaries/sandra-lange
LOCATION: 1800 FM 2679 Rd  Brenham TX 77833
GEO:30.1999305;-96.4908359
END:VEVENT
END:VCALENDAR