BEGIN:VCALENDAR
VERSION:2.0
PRODID:-//Tukios.com/
BEGIN:VEVENT
UID:b25b3dad-9dbc-45ad-8b70-d0f06b963a85@www.memorialoakschapel.com
DTSTAMP:20260422T001735Z
DTSTART:20260421T230000Z
DTEND:20260421T233000Z
SUMMARY:Rosary
DESCRIPTION:
URL:https://www.memorialoakschapel.com/obituaries/mario-cardenas
LOCATION: 1306 W Main St  Brenham TX 77833
GEO:30.166117;-96.4156393
END:VEVENT
END:VCALENDAR