BEGIN:VCALENDAR
VERSION:2.0
PRODID:-//Tukios.com/
BEGIN:VEVENT
UID:30e6dda5-b21b-48b3-9576-79046ef3d83e@www.memorialoakschapel.com
DTSTAMP:20260422T001336Z
DTSTART:20260422T190000Z
DTEND:20260422T200000Z
SUMMARY:Funeral Service
DESCRIPTION:
URL:https://www.memorialoakschapel.com/obituaries/mario-cardenas
LOCATION: 701 Church St  Brenham TX 77833
GEO:30.161851;-96.3972131
END:VEVENT
END:VCALENDAR