BEGIN:VCALENDAR
VERSION:2.0
PRODID:-//Tukios.com/
BEGIN:VEVENT
UID:c7f78c34-c3fd-4264-be75-9d0b4cd75087@www.memorialoakschapel.com
DTSTAMP:20260425T015132Z
DTSTART:20260428T171500Z
DTEND:20260428T173000Z
SUMMARY:Burial
DESCRIPTION:
URL:https://www.memorialoakschapel.com/obituaries/betty-hohlt
LOCATION: North, 4450 FM 1948  Burton TX 77835
GEO:30.2342962;-96.59801
END:VEVENT
END:VCALENDAR