BEGIN:VCALENDAR
VERSION:2.0
PRODID:-//Tukios.com/
BEGIN:VEVENT
UID:c8d95a59-aa16-474e-8034-75438f79cc37@www.memorialoakschapel.com
DTSTAMP:20260425T015356Z
DTSTART:20260428T160000Z
DTEND:20260428T170000Z
SUMMARY:Funeral Service
DESCRIPTION:
URL:https://www.memorialoakschapel.com/obituaries/betty-hohlt
LOCATION: North, 4450 FM 1948  Burton TX 77835
GEO:30.2342962;-96.59801
END:VEVENT
END:VCALENDAR